BEGIN:VCALENDAR
VERSION:2.0
PRODID:-//Glitter Witch Gardens - ECPv6.15.20//NONSGML v1.0//EN
CALSCALE:GREGORIAN
METHOD:PUBLISH
X-ORIGINAL-URL:https://sherikurdakul.com
X-WR-CALDESC:Events for Glitter Witch Gardens
REFRESH-INTERVAL;VALUE=DURATION:PT1H
X-Robots-Tag:noindex
X-PUBLISHED-TTL:PT1H
BEGIN:VTIMEZONE
TZID:America/New_York
BEGIN:DAYLIGHT
TZOFFSETFROM:-0500
TZOFFSETTO:-0400
TZNAME:EDT
DTSTART:20230312T070000
END:DAYLIGHT
BEGIN:STANDARD
TZOFFSETFROM:-0400
TZOFFSETTO:-0500
TZNAME:EST
DTSTART:20231105T060000
END:STANDARD
BEGIN:DAYLIGHT
TZOFFSETFROM:-0500
TZOFFSETTO:-0400
TZNAME:EDT
DTSTART:20240310T070000
END:DAYLIGHT
BEGIN:STANDARD
TZOFFSETFROM:-0400
TZOFFSETTO:-0500
TZNAME:EST
DTSTART:20241103T060000
END:STANDARD
BEGIN:DAYLIGHT
TZOFFSETFROM:-0500
TZOFFSETTO:-0400
TZNAME:EDT
DTSTART:20250309T070000
END:DAYLIGHT
BEGIN:STANDARD
TZOFFSETFROM:-0400
TZOFFSETTO:-0500
TZNAME:EST
DTSTART:20251102T060000
END:STANDARD
END:VTIMEZONE
BEGIN:VEVENT
DTSTART;TZID=America/New_York:20241103T100000
DTEND;TZID=America/New_York:20241103T150000
DTSTAMP:20260422T204453
CREATED:20241006T200404Z
LAST-MODIFIED:20241006T201427Z
UID:10000024-1730628000-1730646000@sherikurdakul.com
SUMMARY:Holiday Craft Fair 2024
DESCRIPTION:THE HOLIDAY SHOPPING SEASON IS HERE!\nHamilton Township Public Library is hosting a Holiday Craft Fair so you can get started on your holiday shopping.  \nStop by the Glitter Witch Gardens Herbal Sensory Experience Space and touch\, smell\, taste\, and see all the wonderful herbal products to support your overall well-being.  \n \n  \n\n  \nABOUT US \nOur products are grown and made right here in Hamilton\, New Jersey. “All the herbal products are made from plants I either grow myself or locally forage\, with the exception of one herb (it grows in Siberia). My spell kit boxes are hand painted by me as well. I do this because if I am going to share my magic\, then I want to make sure I know the power behind the magic I’m passing along. My medicines include tinctures\, salves\, lotion and salve bars\, teas\, oils\, and smudge sticks.”
URL:https://sherikurdakul.com/event/holiday-craft-fair-2024/
LOCATION:Hamilton Township Public Library\, 1 Justice Samuel A Alito Jr Way\, Hamilton\, NJ\, 08619\, United States
CATEGORIES:Festival,Live Events
ATTACH;FMTTYPE=image/jpeg:https://sherikurdakul.com/wp-content/uploads/2024/10/HamiltonPublicLibrary-VendorFair_700x400.jpg
END:VEVENT
END:VCALENDAR