BEGIN:VCALENDAR
VERSION:2.0
PRODID:-//Glitter Witch Gardens - ECPv6.15.20//NONSGML v1.0//EN
CALSCALE:GREGORIAN
METHOD:PUBLISH
X-WR-CALNAME:Glitter Witch Gardens
X-ORIGINAL-URL:https://sherikurdakul.com
X-WR-CALDESC:Events for Glitter Witch Gardens
REFRESH-INTERVAL;VALUE=DURATION:PT1H
X-Robots-Tag:noindex
X-PUBLISHED-TTL:PT1H
BEGIN:VTIMEZONE
TZID:America/New_York
BEGIN:DAYLIGHT
TZOFFSETFROM:-0500
TZOFFSETTO:-0400
TZNAME:EDT
DTSTART:20220313T070000
END:DAYLIGHT
BEGIN:STANDARD
TZOFFSETFROM:-0400
TZOFFSETTO:-0500
TZNAME:EST
DTSTART:20221106T060000
END:STANDARD
BEGIN:DAYLIGHT
TZOFFSETFROM:-0500
TZOFFSETTO:-0400
TZNAME:EDT
DTSTART:20230312T070000
END:DAYLIGHT
BEGIN:STANDARD
TZOFFSETFROM:-0400
TZOFFSETTO:-0500
TZNAME:EST
DTSTART:20231105T060000
END:STANDARD
BEGIN:DAYLIGHT
TZOFFSETFROM:-0500
TZOFFSETTO:-0400
TZNAME:EDT
DTSTART:20240310T070000
END:DAYLIGHT
BEGIN:STANDARD
TZOFFSETFROM:-0400
TZOFFSETTO:-0500
TZNAME:EST
DTSTART:20241103T060000
END:STANDARD
END:VTIMEZONE
BEGIN:VEVENT
DTSTART;VALUE=DATE:20230811
DTEND;VALUE=DATE:20230814
DTSTAMP:20260421T200216
CREATED:20230223T005614Z
LAST-MODIFIED:20230806T131814Z
UID:10000004-1691712000-1691971199@sherikurdakul.com
SUMMARY:Black Walnut Botanical Conference 2023
DESCRIPTION:REGISTRATION IS NOW OPEN!\nThe center of focus for the Black Walnut Botanical Conference is on the plants and herbal education\, but there will be so much more! A variety of classes\, wild weed walks and activities will take place throughout the weekend. We invite you to participate in as many as you wish\, or to use this time and space as your personal retreat. \nThe conference setting is Innabah Camp & Retreat\, in the beautiful Philadelphia countryside of Chester County\, PA. Innabah offers close to 200 acres for our use\, and we are grateful that they have opened their doors\, meadows\, forests\, and waters to us.\nClick the map to the right for a full-sized version > > \nActivities include: \n\nEducational Classes\nPlant Walks\nPlant Meditations\nArts & Crafts\nEvening Circles\nCreek Activities\nAnd more…\n\nCosts: \n\n$275 Lodge\n$250 Cabin\n$225 Tent\n$215 Commuter\n$ 50 Meal Plan\n*** More pricing and offerings on their website***
URL:https://sherikurdakul.com/event/black-walnut-botanical-conference-2023/
LOCATION:Innabah Camp & Retreat\, 712 Pughtown Road\, Spring City\, PA\, 19475\, United States
CATEGORIES:Conference,Live Events,Retreat
ATTACH;FMTTYPE=image/png:https://sherikurdakul.com/wp-content/uploads/2022/08/BWBC-22.png
ORGANIZER;CN="Black Walnut Botanical LLC":MAILTO:grow@blackwalnutbotanical.com
END:VEVENT
BEGIN:VEVENT
DTSTART;TZID=America/New_York:20230819T100000
DTEND;TZID=America/New_York:20230819T170000
DTSTAMP:20260421T200216
CREATED:20230726T160306Z
LAST-MODIFIED:20230726T160306Z
UID:10000013-1692439200-1692464400@sherikurdakul.com
SUMMARY:Fairy and Magickal Creatures Fest
DESCRIPTION:  \nAs soon as you cross the threshold at the entrance\, you’ll feel like you are in another realm\, the realm of Magick\, fun and mystery. Explore a wide variety of vendors\, a fantastic Celtic magician – Daniel Greenwolf\, music\, face painting\, artists\, an amazing Fairy House Garden walk\, and really great food. \nPlease come in costume! And for all the wee folk\, there will also be a wishing tree and fairy tea party with story time. \n\nWe’ll be there! We will have a tent with all sorts of herbal goodies. Stop by to say 🧚🏼 and pick out something that speaks to you.  \nProducts we’ll have on-hand: \n\nLip Dippy\nBug-B-Gone\nItchy Bye-Bye\nInner Warrior Sparkle\nFairy Lotion\nGlitter Witch Garden Sparkle Stickers\nGlitter Witch Garden Flower Stickers\nThe Mushroom Men\nHolding Hands\nAnd more…\n\n  \n  \n  \n\nPAYMENTS ACCEPTED\nWe will only accept cash\nin US $20 or below\ndenominations. 
URL:https://sherikurdakul.com/event/fairy-and-magickal-creatures-fest/
LOCATION:Adirondack History Museum\, 7590 Court Street\, Elizabethtown\, NY\, 12932\, United States
CATEGORIES:Live Events,Social Gathering
ATTACH;FMTTYPE=image/png:https://sherikurdakul.com/wp-content/uploads/2023/07/BANNER_FairyFest_2000x475.png
END:VEVENT
END:VCALENDAR