BEGIN:VCALENDAR
VERSION:2.0
PRODID:-//Glitter Witch Gardens - ECPv6.15.20//NONSGML v1.0//EN
CALSCALE:GREGORIAN
METHOD:PUBLISH
X-WR-CALNAME:Glitter Witch Gardens
X-ORIGINAL-URL:https://sherikurdakul.com
X-WR-CALDESC:Events for Glitter Witch Gardens
REFRESH-INTERVAL;VALUE=DURATION:PT1H
X-Robots-Tag:noindex
X-PUBLISHED-TTL:PT1H
BEGIN:VTIMEZONE
TZID:America/New_York
BEGIN:DAYLIGHT
TZOFFSETFROM:-0500
TZOFFSETTO:-0400
TZNAME:EDT
DTSTART:20230312T070000
END:DAYLIGHT
BEGIN:STANDARD
TZOFFSETFROM:-0400
TZOFFSETTO:-0500
TZNAME:EST
DTSTART:20231105T060000
END:STANDARD
BEGIN:DAYLIGHT
TZOFFSETFROM:-0500
TZOFFSETTO:-0400
TZNAME:EDT
DTSTART:20240310T070000
END:DAYLIGHT
BEGIN:STANDARD
TZOFFSETFROM:-0400
TZOFFSETTO:-0500
TZNAME:EST
DTSTART:20241103T060000
END:STANDARD
BEGIN:DAYLIGHT
TZOFFSETFROM:-0500
TZOFFSETTO:-0400
TZNAME:EDT
DTSTART:20250309T070000
END:DAYLIGHT
BEGIN:STANDARD
TZOFFSETFROM:-0400
TZOFFSETTO:-0500
TZNAME:EST
DTSTART:20251102T060000
END:STANDARD
END:VTIMEZONE
BEGIN:VEVENT
DTSTART;TZID=America/New_York:20240427T130000
DTEND;TZID=America/New_York:20240427T150000
DTSTAMP:20260422T234141
CREATED:20240410T121241Z
LAST-MODIFIED:20240424T114725Z
UID:10000017-1714222800-1714230000@sherikurdakul.com
SUMMARY:Herbal Tea Tasting in the Garden (April)
DESCRIPTION:Welcome to Herbal Tea Tasting in the Garden \nJoin us for a two hour herbal tea tasting experience. We will begin by learning to identify the plant where it grows\, then discuss where\, how\, and with whom it lives in nature. You’ll learn how to properly harvest and dry it\, then we’ll brew some for tea tasting. We’ll explore the lore and magic this herb can bring to your life\, as well as magickal correspondences for which it is associated. \nYou will receive journal pages to write your tasting notes\, create drawings (if art is your thing)\, or press part of the plant. \nThis month’s plant is DANDELION and we will taste three parts of the plant: (1) flower\, (2) leaf\, and (3) root. Discover how each part plays a role in supporting different functions in your body. \n\n\n\n \n\n\nDisclaimers: \nAll material provided at this event is for informational or educational purposes only. It is not intended to diagnose\, treat\, cure\, or prevent any disease. This information has not been evaluated by the food and drug administration. \nIf you have a food allergy or special dietary requirements\, please inform a member of our team or ask for more information. Our location is a designated gluten free zone. Please do not bring any outside food. \nThis event takes place in Hamilton Township\, NJ. Street address to be provided following registration to the event.
URL:https://sherikurdakul.com/event/herbal-tea-tasting-in-the-garden-april/
LOCATION:Glitter Witch Gardens
CATEGORIES:Live Events,Workshop
ATTACH;FMTTYPE=image/png:https://sherikurdakul.com/wp-content/uploads/2024/04/2024-04-27_Dandelion.png
END:VEVENT
BEGIN:VEVENT
DTSTART;TZID=America/New_York:20240518T130000
DTEND;TZID=America/New_York:20240518T150000
DTSTAMP:20260422T234141
CREATED:20240502T200615Z
LAST-MODIFIED:20240503T181237Z
UID:10000018-1716037200-1716044400@sherikurdakul.com
SUMMARY:Herbal Tea Tasting in the Garden (May)
DESCRIPTION:Welcome to Herbal Tea Tasting in the Garden \nJoin us for a two hour herbal tea tasting experience. We will begin by learning to identify the plant where it grows\, then discuss where\, how\, and with whom it lives in nature. You’ll learn how to properly harvest and dry it\, then we’ll brew some for tea tasting. We’ll explore the lore and magic this herb can bring to your life\, as well as magickal correspondences for which it is associated. \nYou will receive journal pages to write your tasting notes\, create drawings (if art is your thing)\, or press part of the plant. \nThis month’s plant is LEMON BALM and we will taste the aerial parts of the plant: (1) flower\, (2) leaf\, and (3) stem. Discover how these parts play a role in supporting a peaceful state when things in your life might not be. \n✨ 📔 ✨ EVERY PARTICIPANT RECEIVES A FREE 48 PAGE HERBAL TEA TASTING JOURNAL! ✨ 📔 ✨ \n  \n\n\nDisclaimers:\nAll material provided at this event is for informational or educational purposes only. It is not intended to diagnose\, treat\, cure\, or prevent any disease. This information has not been evaluated by the food and drug administration.\nIf you have a food allergy or special dietary requirements\, please inform a member of our team or ask for more information. Our location is a designated gluten free zone. Please do not bring any outside food. \nThis event takes place in Hamilton Township\, NJ. Street address to be provided following registration to the event.
URL:https://sherikurdakul.com/event/herbal-tea-tasting-in-the-garden-may/
LOCATION:Glitter Witch Gardens
CATEGORIES:Live Events
ATTACH;FMTTYPE=image/png:https://sherikurdakul.com/wp-content/uploads/2024/05/2024-05-18_LemonBalm-700x400-1.png
END:VEVENT
BEGIN:VEVENT
DTSTART;TZID=America/New_York:20240526T110000
DTEND;TZID=America/New_York:20240526T170000
DTSTAMP:20260422T234141
CREATED:20240228T132234Z
LAST-MODIFIED:20240228T132234Z
UID:10000016-1716721200-1716742800@sherikurdakul.com
SUMMARY:Mandy's Magickal Market
DESCRIPTION:If you are looking for great gifts for yourself or someone else\, I hope you’ll stop by our table. We will have all sorts of her-based goodies for self-care\, including:\n\nSpell Kits\nRitual Bowls\nLotions\nPotions\nAnd more…\n\n\n\nOther vendors and goodies at the market will include:\n\nReaders\nCrafts\nRaffles\nFree popcorn\, free Coloring Station\, Free Entry\, Free Parking\nVegan (& other) Food\nVendors\nSelf Care items and Witchy Ware\n\nEvent is held downstairs in the classroom – RAIN OR SHINE!
URL:https://sherikurdakul.com/event/mandys-magickal-market/
LOCATION:Mandy’s Magick Witch Shop & Healing Center\, 29 East Bridge Street\, Morrisville\, PA\, 19067\, United States
CATEGORIES:Festival,Live Events
ATTACH;FMTTYPE=image/png:https://sherikurdakul.com/wp-content/uploads/2024/02/EventBanner_MandysMagickalMarket.png
ORGANIZER;CN="Mandy%E2%80%99s Magick - Witch Shop & Healing Center":MAILTO:mandysmagick@gmail.com
END:VEVENT
BEGIN:VEVENT
DTSTART;TZID=America/New_York:20240629T130000
DTEND;TZID=America/New_York:20240629T150000
DTSTAMP:20260422T234141
CREATED:20240604T135850Z
LAST-MODIFIED:20240704T144250Z
UID:10000019-1719666000-1719673200@sherikurdakul.com
SUMMARY:Herbal Tea Tasting in the Garden (June)
DESCRIPTION:Welcome to Herbal Tea Tasting in the Garden \nJoin us for a two hour herbal tea tasting experience. We will begin by learning to identify the plant where it grows\, then discuss where\, how\, and with whom it lives in nature. You’ll learn how to properly harvest and dry it\, then we’ll brew some for tea tasting. We’ll explore the lore and magic this herb can bring to your life\, as well as magickal correspondences for which it is associated. \nYou will receive journal pages to write your tasting notes\, create drawings (if art is your thing)\, or press part of the plant. \nThis month’s plant is CHAMOMILE and we will taste the flower parts of the plant. Discover how these parts play a role in supporting a peaceful state when things in your life might not be. \n✨ 📔 ✨ EVERY PARTICIPANT RECEIVES A FREE 48 PAGE HERBAL TEA TASTING JOURNAL! ✨ 📔 ✨ \n  \n\n\nDisclaimers:\nAll material provided at this event is for informational or educational purposes only. It is not intended to diagnose\, treat\, cure\, or prevent any disease. This information has not been evaluated by the food and drug administration.\nIf you have a food allergy or special dietary requirements\, please inform a member of our team or ask for more information. Our location is a designated gluten free zone. Please do not bring any outside food. \nThis event takes place in Hamilton Township\, NJ. Street address to be provided following registration to the event. \n\n\n\n 
URL:https://sherikurdakul.com/event/herbal-tea-tasting-in-the-garden-chamomile/
LOCATION:Glitter Witch Gardens
CATEGORIES:Live Events
ATTACH;FMTTYPE=image/png:https://sherikurdakul.com/wp-content/uploads/2024/06/2024-06-29_Chamomile-700x400-1.png
END:VEVENT
BEGIN:VEVENT
DTSTART;TZID=America/New_York:20240727T130000
DTEND;TZID=America/New_York:20240727T150000
DTSTAMP:20260422T234141
CREATED:20240708T162101Z
LAST-MODIFIED:20240708T204755Z
UID:10000021-1722085200-1722092400@sherikurdakul.com
SUMMARY:Herbal Tea Tasting in the Garden (July)
DESCRIPTION:Welcome to Herbal Tea Tasting in the Garden \nJoin us for a two hour herbal tea tasting experience. We will begin by learning to identify the plant where it grows\, then discuss where\, how\, and with whom it lives in nature. You’ll learn how to properly harvest and dry it\, then we’ll brew some for tea tasting. We’ll explore the lore and magic this herb can bring to your life\, as well as magickal correspondences for which it is associated. \nYou will receive journal pages to write your tasting notes\, create drawings (if art is your thing)\, or press part of the plant. \nThis month’s plant is ROSE OF SHARON and we will taste the flower parts of the plant. Discover how these parts play a role in supporting healthy digestion and more. \n✨ 📔 ✨ EVERY PARTICIPANT RECEIVES A FREE 48 PAGE HERBAL TEA TASTING JOURNAL! ✨ 📔 ✨ \n  \n\n\nDisclaimers:\nAll material provided at this event is for informational or educational purposes only. It is not intended to diagnose\, treat\, cure\, or prevent any disease. This information has not been evaluated by the food and drug administration.\nIf you have a food allergy or special dietary requirements\, please inform a member of our team or ask for more information. Our location is a designated gluten free zone. Please do not bring any outside food. \nThis event takes place in Hamilton Township\, NJ. Street address to be provided following registration to the event. \n\n\n\n 
URL:https://sherikurdakul.com/event/herbal-tea-tasting-in-the-garden-july/
LOCATION:Glitter Witch Gardens
CATEGORIES:Live Events
ATTACH;FMTTYPE=image/png:https://sherikurdakul.com/wp-content/uploads/2024/07/2024-07-27_Chamomile-700x400-1.png
END:VEVENT
BEGIN:VEVENT
DTSTART;TZID=America/New_York:20240805T090000
DTEND;TZID=America/New_York:20240805T093000
DTSTAMP:20260422T234141
CREATED:20240802T210605Z
LAST-MODIFIED:20240802T210620Z
UID:10000022-1722848400-1722850200@sherikurdakul.com
SUMMARY:Instagram Live with Heart To Earth
DESCRIPTION:Herbalism and Nature’s Blessings\nJoin us on Instagram @Heart.ToEarth where Charlotte Nieuwenhuis\, founder of Heart To Earth and Sheri Kurdakul\, founder of Glitter Witch Gardens will have a candid conversation about the interconnectedness of flora and fauna\, and how we fit into this. We’ll talk about the power of plants and how\, if you first learn to recognize your plant neighbors\, you can then also recognize how they speak to us\, freely offering their wellness to us. \n\n  \n 
URL:https://sherikurdakul.com/event/instagram-live-herbalism-and-natures-blessings/
LOCATION:Instagram
CATEGORIES:Virtual Events
ATTACH;FMTTYPE=image/jpeg:https://sherikurdakul.com/wp-content/uploads/2024/08/2024-08-05_IGlive.jpg
ORGANIZER;CN="Heart To Earth":MAILTO:info@heart-to-earth.com
END:VEVENT
END:VCALENDAR