BEGIN:VCALENDAR
VERSION:2.0
PRODID:-//Glitter Witch Gardens - ECPv6.15.20//NONSGML v1.0//EN
CALSCALE:GREGORIAN
METHOD:PUBLISH
X-WR-CALNAME:Glitter Witch Gardens
X-ORIGINAL-URL:https://sherikurdakul.com
X-WR-CALDESC:Events for Glitter Witch Gardens
REFRESH-INTERVAL;VALUE=DURATION:PT1H
X-Robots-Tag:noindex
X-PUBLISHED-TTL:PT1H
BEGIN:VTIMEZONE
TZID:UTC
BEGIN:STANDARD
TZOFFSETFROM:+0000
TZOFFSETTO:+0000
TZNAME:UTC
DTSTART:20210101T000000
END:STANDARD
END:VTIMEZONE
BEGIN:VEVENT
DTSTART;TZID=UTC:20220812T123000
DTEND;TZID=UTC:20220814T120000
DTSTAMP:20260419T125517
CREATED:20220815T182816Z
LAST-MODIFIED:20220815T182816Z
UID:10000002-1660307400-1660478400@sherikurdakul.com
SUMMARY:Black Walnut Botanical Conference
DESCRIPTION:Their herb theme for 2022 is the quietly mighty\, Plantain!\nThe center of focus for the Black Walnut Botanical Conference is on the plants and herbal education\, but there will be so much more! A variety of classes\, wild weed walks and activities will take place throughout the weekend. We invite you to participate in as many as you wish\, or to use this time and space as your personal retreat. \nThe conference setting is Innabah Camp & Retreat\, in the beautiful Philadelphia countryside of Chester County\, PA. Innabah offers close to 200 acres for our use\, and we are grateful that they have opened their doors\, meadows\, forests\, and waters to us.\nClick the map to the right for a full-sized version > > \nActivities include: \n\nEducational Classes\nPlant Walks\nPlant Meditations\nArts & Crafts\nEvening Circles\nCreek Activities\nAnd more…\n\nCosts: \n\n$225.00 – Tents\n$250.00 – Cabins\n$275.00 – Lodges\n  $50.00 – Meal Plan
URL:https://sherikurdakul.com/event/black-walnut-botanical-conference/
LOCATION:Innabah Camp & Retreat\, 712 Pughtown Road\, Spring City\, PA\, 19475\, United States
CATEGORIES:Conference
ATTACH;FMTTYPE=image/png:https://sherikurdakul.com/wp-content/uploads/2022/08/BWBC-22.png
ORGANIZER;CN="Black Walnut Botanical LLC":MAILTO:grow@blackwalnutbotanical.com
END:VEVENT
END:VCALENDAR