BEGIN:VCALENDAR
VERSION:2.0
PRODID:-//Glitter Witch Gardens - ECPv6.15.20//NONSGML v1.0//EN
CALSCALE:GREGORIAN
METHOD:PUBLISH
X-ORIGINAL-URL:https://sherikurdakul.com
X-WR-CALDESC:Events for Glitter Witch Gardens
REFRESH-INTERVAL;VALUE=DURATION:PT1H
X-Robots-Tag:noindex
X-PUBLISHED-TTL:PT1H
BEGIN:VTIMEZONE
TZID:America/New_York
BEGIN:DAYLIGHT
TZOFFSETFROM:-0500
TZOFFSETTO:-0400
TZNAME:EDT
DTSTART:20240310T070000
END:DAYLIGHT
BEGIN:STANDARD
TZOFFSETFROM:-0400
TZOFFSETTO:-0500
TZNAME:EST
DTSTART:20241103T060000
END:STANDARD
BEGIN:DAYLIGHT
TZOFFSETFROM:-0500
TZOFFSETTO:-0400
TZNAME:EDT
DTSTART:20250309T070000
END:DAYLIGHT
BEGIN:STANDARD
TZOFFSETFROM:-0400
TZOFFSETTO:-0500
TZNAME:EST
DTSTART:20251102T060000
END:STANDARD
BEGIN:DAYLIGHT
TZOFFSETFROM:-0500
TZOFFSETTO:-0400
TZNAME:EDT
DTSTART:20260308T070000
END:DAYLIGHT
BEGIN:STANDARD
TZOFFSETFROM:-0400
TZOFFSETTO:-0500
TZNAME:EST
DTSTART:20261101T060000
END:STANDARD
END:VTIMEZONE
BEGIN:VEVENT
DTSTART;TZID=America/New_York:20250906T100000
DTEND;TZID=America/New_York:20250906T170000
DTSTAMP:20260425T070116
CREATED:20250714T163208Z
LAST-MODIFIED:20250814T104319Z
UID:10000031-1757152800-1757178000@sherikurdakul.com
SUMMARY:Fairy and Magickal Creatures Festival
DESCRIPTION:*** VENDOR EVENT ***   \n4th Annual Elizabethtown\, NY Fairy and Magickal Creatures Festival \nWe will be selling some new items at the festival this year. Are you a PLANT LOVER or GREEN WITCH? All of our items are plant-based and plant themed. This year’s items will include: \n\nHerbal salves\nHerbal teas\nHerbal lotion bars\nHerbal tinctures\nHerbal cat toys (Freyr approved!)\nHerbal eye/neck pillows\nHerb plant stakes\nHerbal Tea Tasting Journals\n\nA very limited number of 2026 Manifestation Planners will be available for sale. After they are gone\, we will be taking pre-orders (and offering free shipping – within the continental US). \nYou can get a preview or order online – CLICK HERE. \n\n2025 Festival Agenda: Saturday\, September 6\, 2025\n10:00 AM – 5:00 PM: Gate open/close times \n10:00 AM – 10:30 AM \nNorthern Tier Pagan Drummers – 10:15AM opens the Festival\nNorthern Tier Pagan Drummers are a wonderful and dedicated group of people who meet regularly and have created an amazingly cohesive energetic connection to each other and spirit! They are great! \n11:30 AM – 12:30 PM \nAdventure Quest! 11:30 to 11:45\nThe Lost Map of the Fairy Realms Adventure Quest created by the Live History Players \n12:30 PM – 1:00 PM \nRainbow Sue’s Crafting Class at 12:30 PM to 1:15 \n1:00 PM – 2:00 PM \nFairy Queen – 1:15 to 2:00\nStory Time with the Fairy Queen at 1:15 PM Come and meet with the Fairy Queen until the tent and hear her tell you the a magickal story. Come in costume she love’s that! \n2:00 PM – 2:30 PM \nRainbow Sue – Crafting Class 2:15 to 3:00\nRainbow Sue’s Mermaid/Merman Bracelet Crafting \n3:00 PM – 3:30 PM \nAdventure Quest 3:15 to 4:00\nThe Case of the Vanished Familiar Adventure Quest done by the Live History Players. \n4:30 PM – 5:00 PM \nNorther Tier Pagan Drummers 4:15 to 4:45\nDrumming and singing/chanting as we close the festival \nCOME IN COSTUME AND JOIN US FOR THE SPECIAL MAGICKAL DAY OF FUN
URL:https://sherikurdakul.com/event/fairy-and-magickal-creatures-festival/
LOCATION:Adirondack History Museum\, 7590 Court Street\, Elizabethtown\, NY\, 12932\, United States
CATEGORIES:Festival,Live Events
ATTACH;FMTTYPE=image/jpeg:https://sherikurdakul.com/wp-content/uploads/2025/07/Featured-Image.jpg
ORGANIZER;CN="Solstice LLC":MAILTO:solsticellc-magick@gmail.com
END:VEVENT
BEGIN:VEVENT
DTSTART;VALUE=DATE:20250912
DTEND;VALUE=DATE:20250915
DTSTAMP:20260425T070116
CREATED:20250816T105406Z
LAST-MODIFIED:20250816T110021Z
UID:10000032-1757635200-1757894399@sherikurdakul.com
SUMMARY:International Herb Symposium
DESCRIPTION:Join Me at the 17th International Herb Symposium… Find me manning the Herbalists Without Borders table! \nDATE & TIME: Friday\, September 12\, 2025 through Sunday\, September 14\, 2025\nLOCATION: Historic Memorial Hall\, downtown Cincinnati\, Ohio \n\nABOUT THE 17TH ANNUAL INTERNATIONAL HERB SYMPOSIUM \nThis Symposium focuses on the Eclectic Roots of Modern Herbalism. It’s a unique opportunity to explore how herbal knowledge has flowed through history—like the mighty Ohio River—connecting us all. \nFounded more than 25 years ago by Rosemary Gladstar\, this biennial event continues to be a place for herbalists from across the globe to exchange information about the healing power of plants. The Symposium holds a special place among herbal conferences\, bringing together people from diverse backgrounds and ways of working with medicinals. \n\nSheri Kurdakul\, SRMP \nSheri Kurdakul is a Community Herbalist\, Shamanic Reiki Master Practitioner\, and a published best selling author. She is passionate about herbal gardening\, hiking\, writing\, and creating plant-based art. Sheri is the managing partner of Sheri Kurdakul LLC\, a consulting business acting as a liaison between what you are seeking and what plants can offer you through herbal products\, plant spirit energy work\, and plant-based community events. She is also the co-Executive Director and the Coordinator for the HWB Central Jersey Chapter (US)\, where she hosts monthly herbal tea tastings and medicine making demonstrations. Sheri was the Founder and former CEO of EBinRA\, Inc. dba VictimsVoice. She also serves as the Secretary for Dancing Turtle Rescue and Rehabilitation Board of Directors. 
URL:https://sherikurdakul.com/event/international-herb-symposium/
LOCATION:Historic Memorial Hall (MeMO)\, 1225 Elm Street\, Cincinnati\, OH\, 45202\, United States
CATEGORIES:Conference,Live Events
ATTACH;FMTTYPE=image/jpeg:https://sherikurdakul.com/wp-content/uploads/2025/08/2025-IHS-FeatureBanner_700x400.jpg
ORGANIZER;CN="United Plant Savers":MAILTO:office@UnitedPlantSavers.org
END:VEVENT
BEGIN:VEVENT
DTSTART;VALUE=DATE:20250926
DTEND;VALUE=DATE:20250929
DTSTAMP:20260425T070116
CREATED:20250917T133308Z
LAST-MODIFIED:20250917T133308Z
UID:10000033-1758844800-1759103999@sherikurdakul.com
SUMMARY:BotanicWise Women's Herbal Gathering 2025
DESCRIPTION:  \nAre you prepared for the best weekend of the year?\nBotanicWise Women’s Gathering | September 26-28\, 2025 \n\n\n\n\nBotanicWise is for herbalists\, healers\, and learners. \n\n\n\n\nWhether you’re a professional or someone learning to help care for yourself and your loved ones – you’re welcome here. Sign up to get free lessons\, invitations to live presentations\, and to be a part of what we’re creating here at BotanicWise. \n\n\n\n\n\n\nWild carrot is calling! \n\n\n\n\nThe BotanicWise Women’s Gathering is a unique event dedicated to preserving plant traditions through story\, song\, ceremony\, hands-on activities\, and educational classes. \nThis event brings together young and old\, honoring the wisdom of plants and celebrating the beauty of community. This year\, we are honored to host a distinguished lineup of respected plant-loving presenters\, including Rocío Alarcón\, Tammi Sweet\, Sydney Baston\, Dr. Jody Noé\, Mary Blue\, Tonya Lemos\, and more! \n\n\nThe BotanicWise team has been hard at work crafting the 13th Annual Women’s Herbal Gathering. This event will be held in-person at the Kempton Community Center in Kempton\, Pennsylvania. \n 
URL:https://sherikurdakul.com/event/botanicwise-womens-herbal-gathering-2025/
LOCATION:Kempton Community Center\, 83 Community Center Drive\, Kempton\, PA\, 19529\, United States
CATEGORIES:Conference,Live Events
ATTACH;FMTTYPE=image/png:https://sherikurdakul.com/wp-content/uploads/2025/09/2025-09_BotanicWise-FEATURE.png
ORGANIZER;CN="BotanicWise":MAILTO:BotanicWise@gmail.com
END:VEVENT
END:VCALENDAR